BEGIN:VCALENDAR
VERSION:2.0
PRODID:-//A.C.E.C. - ECPv4.0.7//NONSGML v1.0//EN
CALSCALE:GREGORIAN
METHOD:PUBLISH
X-WR-CALNAME:A.C.E.C.
X-ORIGINAL-URL:https://acecdouvaine.net
X-WR-CALDESC:Events for A.C.E.C.
BEGIN:VEVENT
DTSTART;TZID="UTC+1":20220807T093000
DTEND;TZID="UTC+1":20220807T113000
DTSTAMP:20260420T151040
CREATED:20220423T101443
LAST-MODIFIED:20220423T101448
UID:7490-1659864600-1659871800@acecdouvaine.net
SUMMARY:cours de 9h30 à 10h15 niveau 2 et 3/ cours de 10h30 à 11h15 chiots et niveau 1
DESCRIPTION:
URL:https://acecdouvaine.net/event/cours-de-9h30-a-10h15-niveau-2-et-3-cours-de-10h30-a-11h15-chiots-et-niveau-1-37/
LOCATION:avenue du Bas-Chablais\, Douvaine\, 74140\, France
END:VEVENT
END:VCALENDAR