BEGIN:VCALENDAR
VERSION:2.0
PRODID:-//A.C.E.C. - ECPv4.0.7//NONSGML v1.0//EN
CALSCALE:GREGORIAN
METHOD:PUBLISH
X-WR-CALNAME:A.C.E.C.
X-ORIGINAL-URL:https://acecdouvaine.net
X-WR-CALDESC:Events for A.C.E.C.
BEGIN:VEVENT
DTSTART;TZID="UTC+1":20210404T093000
DTEND;TZID="UTC+1":20210404T113000
DTSTAMP:20260421T012859
CREATED:20201011T132539
LAST-MODIFIED:20210325T132900
UID:7046-1617528600-1617535800@acecdouvaine.net
SUMMARY:pas de cours (Paques)
DESCRIPTION:
URL:https://acecdouvaine.net/event/cours-de-9h30-a-10h15-niveau-2-et-3-cours-de-10h30-a-11h15-chiots-et-niveau-1-4/
LOCATION:avenue du Bas-Chablais\, Douvaine\, 74140\, France
END:VEVENT
END:VCALENDAR