BEGIN:VCALENDAR
VERSION:2.0
PRODID:-//A.C.E.C. - ECPv4.0.7//NONSGML v1.0//EN
CALSCALE:GREGORIAN
METHOD:PUBLISH
X-WR-CALNAME:A.C.E.C.
X-ORIGINAL-URL:https://acecdouvaine.net
X-WR-CALDESC:Events for A.C.E.C.
BEGIN:VEVENT
DTSTART;TZID="UTC+1":20200531T093000
DTEND;TZID="UTC+1":20200531T110000
DTSTAMP:20260421T045455
CREATED:20191222T143714
LAST-MODIFIED:20191222T143721
UID:5990-1590917400-1590922800@acecdouvaine.net
SUMMARY:cours de 9h30 à 11h
DESCRIPTION:
URL:https://acecdouvaine.net/event/cours-de-9h30-a-11h-14/
LOCATION:avenue du Bas-Chablais\, Douvaine\, 74140\, France
END:VEVENT
END:VCALENDAR