BEGIN:VCALENDAR
VERSION:2.0
PRODID:-//A.C.E.C. - ECPv4.0.7//NONSGML v1.0//EN
CALSCALE:GREGORIAN
METHOD:PUBLISH
X-WR-CALNAME:A.C.E.C.
X-ORIGINAL-URL:https://acecdouvaine.net
X-WR-CALDESC:Events for A.C.E.C.
BEGIN:VEVENT
DTSTART;TZID="UTC+1":20200726T093000
DTEND;TZID="UTC+1":20200726T110000
DTSTAMP:20260421T025240
CREATED:20191222T144241
LAST-MODIFIED:20191222T144250
UID:5998-1595755800-1595761200@acecdouvaine.net
SUMMARY:cours de 9h30 à 11h
DESCRIPTION:
URL:https://acecdouvaine.net/event/cours-de-9h30-a-11h-22/
LOCATION:avenue du Bas-Chablais\, Douvaine\, 74140\, France
END:VEVENT
END:VCALENDAR