BEGIN:VCALENDAR
VERSION:2.0
PRODID:-//A.C.E.C. - ECPv4.0.7//NONSGML v1.0//EN
CALSCALE:GREGORIAN
METHOD:PUBLISH
X-WR-CALNAME:A.C.E.C.
X-ORIGINAL-URL:https://acecdouvaine.net
X-WR-CALDESC:Events for A.C.E.C.
BEGIN:VEVENT
DTSTART;TZID="UTC+1":20200809T093000
DTEND;TZID="UTC+1":20200809T110000
DTSTAMP:20260421T030101
CREATED:20191222T144415
LAST-MODIFIED:20191222T144423
UID:6000-1596965400-1596970800@acecdouvaine.net
SUMMARY:cours de 9h30 à 11h
DESCRIPTION:
URL:https://acecdouvaine.net/event/cours-de-9h30-a-11h-24/
LOCATION:avenue du Bas-Chablais\, Douvaine\, 74140\, France
END:VEVENT
END:VCALENDAR