BEGIN:VCALENDAR
VERSION:2.0
PRODID:-//A.C.E.C. - ECPv4.0.7//NONSGML v1.0//EN
CALSCALE:GREGORIAN
METHOD:PUBLISH
X-WR-CALNAME:A.C.E.C.
X-ORIGINAL-URL:https://acecdouvaine.net
X-WR-CALDESC:Events for A.C.E.C.
BEGIN:VEVENT
DTSTART;TZID="UTC+1":20241216T080000
DTEND;TZID="UTC+1":20250308T170000
DTSTAMP:20260420T033311
CREATED:20241109T084148
LAST-MODIFIED:20241109T084152
UID:7635-1734336000-1741453200@acecdouvaine.net
SUMMARY:fermeture hivernale
DESCRIPTION:
URL:https://acecdouvaine.net/event/fermeture-hivernale-4/
LOCATION:avenue du Bas-Chablais\, Douvaine\, 74140\, France
END:VEVENT
END:VCALENDAR