BEGIN:VCALENDAR
VERSION:2.0
PRODID:-//A.C.E.C. - ECPv4.0.7//NONSGML v1.0//EN
CALSCALE:GREGORIAN
METHOD:PUBLISH
X-WR-CALNAME:A.C.E.C.
X-ORIGINAL-URL:https://acecdouvaine.net
X-WR-CALDESC:Events for A.C.E.C.
BEGIN:VEVENT
DTSTART;TZID="UTC+1":20201214T080000
DTEND;TZID="UTC+1":20210306T170000
DTSTAMP:20260421T012716
CREATED:20201011T131732
LAST-MODIFIED:20201011T131732
UID:7041-1607932800-1615050000@acecdouvaine.net
SUMMARY:fermeture hivernale du club
DESCRIPTION:
URL:https://acecdouvaine.net/event/fermeture-hivernale-du-club/
LOCATION:avenue du Bas-Chablais\, Douvaine\, 74140\, France
END:VEVENT
END:VCALENDAR